BEGIN:VCALENDAR
VERSION:2.0
PRODID:-//Eventin//Event Calendar//EN
CALSCALE:GREGORIAN
METHOD:PUBLISH
BEGIN:VEVENT
UID:943c4388a690c642b8c9119461115fb6@mrmulletshostel.com
SUMMARY:Mr. Mullets Boat Party (May 21\, 2026)
DESCRIPTION:Welcome aboard the biggest bboat party in Central America! Drin
 ks up and get down on our three level party barge!\n------------ English Tr
 anslation Below ------------\n¡Bienvenido a bordo de la fiesta en barco m
 ás grande de Centroamérica! Bebe y diviértete en nuestra barco de tres n
 iveles. ¡Únete a nosotros para la mejor experiencia de fiesta en el Lago 
 de Atitlán. Nuestro barco consta de 3 niveles es la mayor fiesta en barco 
 en el lago y ofrece impresionantes vistas de los volcanes. Reúnete con nos
 otros en Mr. Mullets hostel a las 10 de la mañana para pasar un día inolv
 idable en el agua. El barco regresa a las 15.00\, así que tendrás tiempo 
 de sobra para disfrutar del sol\, nadar en el lago y bailar en la cubierta 
 del DJ. Y al bajar continuamos con nuestro after party hasta la 11 de la no
 che Tu entrada incluye 5 bebidas. Nota: Sólo se servirán cócteles a bord
 o\, pero puedes traer tu propia cerveza o cualquier otra bebida.\n \n¡Res
 erva con anticipación para obtener los mejores precios!\nBoletos: Q250 Ear
 ly Bird · Q300 General · Q350 Last Call (el día del evento o después de
  que se agoten los generales)\n \nSi te alojas con nosotros en Mr. Mullet'
 s\, reserva directamente en nuestro sitio web y disfruta de un 15% de descu
 ento en tu estancia. ¡No te pierdas la fiesta más grande del Lago de Atit
 lán! No se olvide de llevar protector solar\, agua\, dinero en efectivo pa
 ra aperitivos o bebidas adicionales\, y una toalla para todas sus actividad
 es en el lago.\n \nTenga en cuenta que no hay reembolsos y este evento es 
 estrictamente 18+.\nNota: Este recibo / código QR NO es un billete.\nPor f
 avor\, vaya a la recepción del albergue Mr. Mullet's al menos 30 minutos a
 ntes del evento para obtener una pulsera para la entrada.\n- No se admiten 
 cambios ni devoluciones -\n¿Preguntas?\nInstagram: @mrmulletshostel\ncorre
 o electrónico: mrmuletsreception@gmail.com\n------------ English Translati
 on ------------\nJoin us for the ultimate party experience on Lake Atitlan 
 with Mr. Mullet's Booze Cruise! Our 3-level party barge is the biggest boat
  party on the lake\, and offers stunning views of the surrounding volcanoes
 . Meet us at Mr. Mullet's Hostel at 10am for an unforgettable day on the wa
 ter. The boat returns by 3pm\, so you'll have plenty of time to enjoy the s
 unshine\, swim in the lake\, and dance on the DJ deck. We've got you covere
 d with 5 drinks included. Note: Only cocktails will be served on board\, bu
 t you're welcome to Bring Your Own Beer or any other beverages.\nBook in ad
 vance for best prices!\nTickets: Q250 Early Bird · Q300 General Admission 
 · Q350 Last Call (day-of or after GA sells out)\nIf you're staying with us
  at Mr. Mullet's Hostel\, book directly on our website for 15% off your sta
 y. Don't miss out on the biggest party on Lake Atitlan! Don't forget to pac
 k sunscreen\, water\, cash for snacks or additional beverages\, and a towel
  for all your lake activities.\n \nPlease note that there are no refunds a
 nd this event is strictly 18+.\n \nNote: This receipt / QR code is NOT a t
 icket. Please go to reception at Mr. Mullet's Hostel at least 30 minutes be
 fore the event to get a wristband for entrance.\n \n- No Refunds or exchan
 ges -\n \nQuestions?\nInstagram: @mrmulletshostel\nemail: mrmuletsreceptio
 n@gmail.com
LOCATION:Online
DTSTAMP:20260422T114017Z
DTSTART:20260521T160000Z
DTEND:20260521T210000Z
END:VEVENT
END:VCALENDAR
