BEGIN:VCALENDAR
VERSION:2.0
PRODID:-//Eventin//Event Calendar//EN
CALSCALE:GREGORIAN
METHOD:PUBLISH
BEGIN:VEVENT
UID:89a5fc31692fc9b04701a6f22bb6fc54@mrmulletshostel.com
SUMMARY:Mr. Mullets Pub Crawl (May 23\, 2026)
DESCRIPTION:Mr. Mullets Pub Crawl Starting at 5pm at Mr mullets Hostel:\n--
 -------------- English Translation Below ----------------\nÚnete a nosotro
 s durante 6 horas de locura y recuerdos inolvidables en el famoso Pub Crawl
  de Mr. Mullets. Todos los martes y sábados\, a partir de las 17:00\, sum
 érgete en el corazón de la vibrante vida nocturna de San Pedro la locura 
 y descubre los mejores bares del pueblo.\n \nEntradas: Q175 Early Bird · 
 Q200 Regular · Q250 Last Call (el día del evento o después de que se ago
 ten los Regular)\nIncluye:\n\nLa legendaria playera de Mr. Mullets\n12+ sho
 ts de tequila con nuestra receta secreta\nBebidas especiales exclusivas en 
 cada parada (bebidas adicionales no incluidas)\nAcceso a más de 5 bares qu
 e muestran la diversidad de la vida nocturna\nPrepárate para una aventura 
 que garantiza diversión sin parar y nuevos mejores amigos de todo el mundo
 .\n\nNo te pierdas la diversión t síguenos en Instagram @mrmulletshostel 
 para ver adelantos y actualizaciones de los últimos eventos del Pub Crawl.
 \nNota: ¡Este código QR no es una entrada! Recoge tu pulsera en recepció
 n antes de las 17:00.\nNo se permiten devoluciones ni cambios bajo ninguna 
 circunstancia.\n \n---------------- English ----------------\n\n\n\n\n\n\n
 \n\n\n\n\n\n\n\nJoin us for 6 hours of absolute debauchery and unforgettabl
 e memories at Mr. Mullets's renowned Pub Crawl Lake Atitlan! Every Tuesday 
 and Saturday\, starting at 5 PM\, dive into the heart of the San Pedro's vi
 brant nightlife and discover the best bars in town.\n \nTickets: Q175 Earl
 y Bird · Q200 Regular · Q250 Last Call (day-of or after Regular sells out
 )\nIncludes:\n\nThe legendary Mr. Mullets acid wash t-shirt\n12+ shots\nExc
 lusive drink specials at each stop\nAccess to 5+ bars showcasing the divers
 ity of our city's nightlife\n\nPrepare yourself for an adventure that guara
 ntees non-stop entertainment and new best friends from around the world! Do
 n't miss out on the action – follow us on Instagram @mrmulletshostel for 
 sneak peeks and updates on the latest Pub Crawl events!\n \nNote: This QR 
 code is not a ticket! Please pick up your wristband at reception before 5pm
 .\n \nNo Refunds or exchanges - no exceptions.\n\n 
LOCATION:mr mullets
DTSTAMP:20260422T114301Z
DTSTART:20260524T000000Z
DTEND:20260524T050000Z
END:VEVENT
END:VCALENDAR
